BEGIN:VCALENDAR
VERSION:2.0
PRODID:-//Bloom Restoration Ministry - ECPv4.9.10//NONSGML v1.0//EN
CALSCALE:GREGORIAN
METHOD:PUBLISH
X-WR-CALNAME:Bloom Restoration Ministry
X-ORIGINAL-URL:https://bloomrestorationministry.org
X-WR-CALDESC:Events for Bloom Restoration Ministry
BEGIN:VTIMEZONE
TZID:UTC
BEGIN:STANDARD
TZOFFSETFROM:+0000
TZOFFSETTO:+0000
TZNAME:UTC
DTSTART:20190101T000000
END:STANDARD
END:VTIMEZONE
BEGIN:VEVENT
DTSTART;TZID=UTC:20190420T080000
DTEND;TZID=UTC:20190420T170000
DTSTAMP:20260424T002950
CREATED:20190208T010700Z
LAST-MODIFIED:20190208T010700Z
UID:1277-1555747200-1555779600@bloomrestorationministry.org
SUMMARY:KCFA Annual Conference
DESCRIPTION:
URL:https://bloomrestorationministry.org/event/kcfa-annual-conference
END:VEVENT
END:VCALENDAR