BEGIN:VCALENDAR
VERSION:2.0
PRODID:-//Bloom Restoration Ministry - ECPv4.9.10//NONSGML v1.0//EN
CALSCALE:GREGORIAN
METHOD:PUBLISH
X-WR-CALNAME:Bloom Restoration Ministry
X-ORIGINAL-URL:https://bloomrestorationministry.org
X-WR-CALDESC:Events for Bloom Restoration Ministry
BEGIN:VTIMEZONE
TZID:UTC
BEGIN:STANDARD
TZOFFSETFROM:+0000
TZOFFSETTO:+0000
TZNAME:UTC
DTSTART:20190101T000000
END:STANDARD
END:VTIMEZONE
BEGIN:VEVENT
DTSTART;TZID=UTC:20190425T080000
DTEND;TZID=UTC:20190425T213000
DTSTAMP:20260423T213021
CREATED:20190208T011324Z
LAST-MODIFIED:20190208T011414Z
UID:1283-1556179200-1556227800@bloomrestorationministry.org
SUMMARY:Ministry Prayers
DESCRIPTION:
URL:https://bloomrestorationministry.org/event/ministry-conference-prayers
END:VEVENT
END:VCALENDAR