BEGIN:VCALENDAR
VERSION:2.0
PRODID:-//Bloom Restoration Ministry - ECPv4.9.10//NONSGML v1.0//EN
CALSCALE:GREGORIAN
METHOD:PUBLISH
X-WR-CALNAME:Bloom Restoration Ministry
X-ORIGINAL-URL:https://bloomrestorationministry.org
X-WR-CALDESC:Events for Bloom Restoration Ministry
BEGIN:VTIMEZONE
TZID:UTC
BEGIN:STANDARD
TZOFFSETFROM:+0000
TZOFFSETTO:+0000
TZNAME:UTC
DTSTART:20190101T000000
END:STANDARD
END:VTIMEZONE
BEGIN:VEVENT
DTSTART;TZID=UTC:20190502T203000
DTEND;TZID=UTC:20190502T213000
DTSTAMP:20260423T195610
CREATED:20190312T044610Z
LAST-MODIFIED:20190312T044802Z
UID:1310-1556829000-1556832600@bloomrestorationministry.org
SUMMARY:Ministry Prayers
DESCRIPTION:
URL:https://bloomrestorationministry.org/event/ministry-prayers-8
END:VEVENT
END:VCALENDAR