BEGIN:VCALENDAR
VERSION:2.0
PRODID:-//Bloom Restoration Ministry - ECPv4.9.10//NONSGML v1.0//EN
CALSCALE:GREGORIAN
METHOD:PUBLISH
X-WR-CALNAME:Bloom Restoration Ministry
X-ORIGINAL-URL:https://bloomrestorationministry.org
X-WR-CALDESC:Events for Bloom Restoration Ministry
BEGIN:VTIMEZONE
TZID:UTC
BEGIN:STANDARD
TZOFFSETFROM:+0000
TZOFFSETTO:+0000
TZNAME:UTC
DTSTART:20190101T000000
END:STANDARD
END:VTIMEZONE
BEGIN:VEVENT
DTSTART;TZID=UTC:20190419T130000
DTEND;TZID=UTC:20190419T143000
DTSTAMP:20260424T011213
CREATED:20190208T010538Z
LAST-MODIFIED:20190208T010538Z
UID:1275-1555678800-1555684200@bloomrestorationministry.org
SUMMARY:Surviving and moving past abuse in a relationship
DESCRIPTION:
URL:https://bloomrestorationministry.org/event/surviving-and-moving-past-abuse-in-a-relationship
END:VEVENT
END:VCALENDAR