BEGIN:VCALENDAR
VERSION:2.0
PRODID:-//Bloom Restoration Ministry - ECPv4.9.10//NONSGML v1.0//EN
CALSCALE:GREGORIAN
METHOD:PUBLISH
X-WR-CALNAME:Bloom Restoration Ministry
X-ORIGINAL-URL:https://bloomrestorationministry.org
X-WR-CALDESC:Events for Bloom Restoration Ministry
BEGIN:VTIMEZONE
TZID:UTC
BEGIN:STANDARD
TZOFFSETFROM:+0000
TZOFFSETTO:+0000
TZNAME:UTC
DTSTART:20190101T000000
END:STANDARD
END:VTIMEZONE
BEGIN:VEVENT
DTSTART;TZID=UTC:20190615T080000
DTEND;TZID=UTC:20190615T130000
DTSTAMP:20260423T214040
CREATED:20190430T000726Z
LAST-MODIFIED:20190430T000726Z
UID:1331-1560585600-1560603600@bloomrestorationministry.org
SUMMARY:Round Rock\, TX\, Workshop: Approval Addiction
DESCRIPTION:
URL:https://bloomrestorationministry.org/event/round-rock-tx-workshop-approval-addiction
END:VEVENT
END:VCALENDAR