BEGIN:VCALENDAR
VERSION:2.0
PRODID:-//Bloom Restoration Ministry - ECPv4.9.10//NONSGML v1.0//EN
CALSCALE:GREGORIAN
METHOD:PUBLISH
X-WR-CALNAME:Bloom Restoration Ministry
X-ORIGINAL-URL:https://bloomrestorationministry.org
X-WR-CALDESC:Events for Bloom Restoration Ministry
BEGIN:VTIMEZONE
TZID:UTC
BEGIN:STANDARD
TZOFFSETFROM:+0000
TZOFFSETTO:+0000
TZNAME:UTC
DTSTART:20190101T000000
END:STANDARD
END:VTIMEZONE
BEGIN:VEVENT
DTSTART;TZID=UTC:20190816T080000
DTEND;TZID=UTC:20190816T170000
DTSTAMP:20260423T182952
CREATED:20190413T220613Z
LAST-MODIFIED:20190413T221525Z
UID:1318-1565942400-1565974800@bloomrestorationministry.org
SUMMARY:California- JRN
DESCRIPTION:
URL:https://bloomrestorationministry.org/event/california-jrn
END:VEVENT
BEGIN:VEVENT
DTSTART;TZID=UTC:20190816T080000
DTEND;TZID=UTC:20190816T170000
DTSTAMP:20260423T182952
CREATED:20190413T221629Z
LAST-MODIFIED:20190413T221629Z
UID:1321-1565942400-1565974800@bloomrestorationministry.org
SUMMARY:California- JRN
DESCRIPTION:
URL:https://bloomrestorationministry.org/event/california-jrn-2
END:VEVENT
BEGIN:VEVENT
DTSTART;TZID=UTC:20190816T080000
DTEND;TZID=UTC:20190816T170000
DTSTAMP:20260423T182952
CREATED:20190413T222903Z
LAST-MODIFIED:20190413T222903Z
UID:1325-1565942400-1565974800@bloomrestorationministry.org
SUMMARY:California- JRN
DESCRIPTION:
URL:https://bloomrestorationministry.org/event/california-jrn-4
END:VEVENT
END:VCALENDAR